BEGIN:VCALENDAR
VERSION:2.0
PRODID:-//Harfesigg - ECPv6.14.2//NONSGML v1.0//EN
CALSCALE:GREGORIAN
METHOD:PUBLISH
X-WR-CALNAME:Harfesigg
X-ORIGINAL-URL:https://harfesigg.de
X-WR-CALDESC:Veranstaltungen für Harfesigg
REFRESH-INTERVAL;VALUE=DURATION:PT1H
X-Robots-Tag:noindex
X-PUBLISHED-TTL:PT1H
BEGIN:VTIMEZONE
TZID:Europe/Berlin
BEGIN:DAYLIGHT
TZOFFSETFROM:+0100
TZOFFSETTO:+0200
TZNAME:CEST
DTSTART:20260329T010000
END:DAYLIGHT
BEGIN:STANDARD
TZOFFSETFROM:+0200
TZOFFSETTO:+0100
TZNAME:CET
DTSTART:20261025T010000
END:STANDARD
END:VTIMEZONE
BEGIN:VEVENT
DTSTART;TZID=Europe/Berlin:20260426T110000
DTEND;TZID=Europe/Berlin:20260426T160000
DTSTAMP:20260424T121203
CREATED:20260202T132942Z
LAST-MODIFIED:20260202T132942Z
UID:1286-1777201200-1777219200@harfesigg.de
SUMMARY:Regio-Naschmarkt 2026
DESCRIPTION:Bereits zum dritten Mal heißt es: LEADER kann LECKER! Denn am 26. April 2026 von 11:00-16:00 Uhr findet unser mittlerweile dritter Regio-Naschmarkt statt. Diesmal im Historischen Güterboden in Lugau (Güterstraße\, 09385 Lugau). Es wird ein buntes Treiben von regionalen Erzeugerinnen und Erzeugern\, direktvermarktenden Betrieben und Vereinen. \nDie kulinarische Vielfalt unserer Region ist unglaublich. Schlemmen ist hier nicht nur erlaubt\, sondern ausdrücklich gewünscht. Was euch erwartet und worauf sich Groß & Klein freuen dürfen\, das erfahrt ihr bald hier. \n 
URL:https://harfesigg.de/event/regio-naschmarkt-2026/
LOCATION:Güterboden Lugau\, Am Bahnhof 4a\, Lugau\, Sachsen\, 09385\, Germany
END:VEVENT
BEGIN:VEVENT
DTSTART;TZID=Europe/Berlin:20261017T100000
DTEND;TZID=Europe/Berlin:20261017T170000
DTSTAMP:20260424T121203
CREATED:20260202T133234Z
LAST-MODIFIED:20260202T133234Z
UID:1294-1792231200-1792256400@harfesigg.de
SUMMARY:Tage des traditionellen Handwerks im Erzgebirge
DESCRIPTION:Einmal im Jahr öffnet das Erzgebirge seine Türen für ein einzigartiges Erlebnis: die Tage des traditionellen Handwerks. Mehr als 130 Manufakturen\, Museen und Vereine zeigen ihre jahrhundertealten Techniken und laden zum Zuschauen und Mitmachen ein. Von Handwerkermärkten über Workshops bis zu kulinarischen Angeboten: Ein Wochenende voller Tradition\, Kreativität und Gastfreundschaft.
URL:https://harfesigg.de/event/tage-des-traditionellen-handwerks-im-erzgebirge/
LOCATION:Harfesigg\, Untere Hauptstraße 60\, Lugau\, Sachsen\, 09385\, Germany
END:VEVENT
BEGIN:VEVENT
DTSTART;TZID=Europe/Berlin:20261018T100000
DTEND;TZID=Europe/Berlin:20261018T170000
DTSTAMP:20260424T121203
CREATED:20260202T133318Z
LAST-MODIFIED:20260202T133318Z
UID:1296-1792317600-1792342800@harfesigg.de
SUMMARY:Tage des traditionellen Handwerks im Erzgebirge
DESCRIPTION:Einmal im Jahr öffnet das Erzgebirge seine Türen für ein einzigartiges Erlebnis: die Tage des traditionellen Handwerks. Mehr als 130 Manufakturen\, Museen und Vereine zeigen ihre jahrhundertealten Techniken und laden zum Zuschauen und Mitmachen ein. Von Handwerkermärkten über Workshops bis zu kulinarischen Angeboten: Ein Wochenende voller Tradition\, Kreativität und Gastfreundschaft.
URL:https://harfesigg.de/event/tage-des-traditionellen-handwerks-im-erzgebirge-2/
LOCATION:Harfesigg\, Untere Hauptstraße 60\, Lugau\, Sachsen\, 09385\, Germany
END:VEVENT
END:VCALENDAR